BEGIN:VCALENDAR
VERSION:2.0
PRODID:-//Plone.org//NONSGML plone.app.event//EN
X-WR-TIMEZONE:Asia/Taipei
BEGIN:VEVENT
SUMMARY:新加坡國立大學法學院陳維曾教授來訪
DTSTART;VALUE=DATE:20240201
DTEND;VALUE=DATE:20240202
DTSTAMP;VALUE=DATE-TIME:20260419T225636Z
UID:852e932808f645faa1ccbcc9658e8440@210.61.119.70:8080
CATEGORIES:學術交流
CREATED;VALUE=DATE-TIME:20240227T093310Z
LAST-MODIFIED;VALUE=DATE-TIME:20240227T093322Z
URL:http://www.cckf.org/zh/activities/2024022705
END:VEVENT
END:VCALENDAR
