BEGIN:VCALENDAR
VERSION:2.0
PRODID:-//Plone.org//NONSGML plone.app.event//EN
X-WR-TIMEZONE:Asia/Taipei
BEGIN:VEVENT
SUMMARY:陳執行長純一赴新加坡訪問多所大學院校，並拜會
 臺北駐新加坡代表童振源大使與新加坡國際基金會
DTSTART;TZID=Asia/Taipei;VALUE=DATE-TIME:20240116T170000
DTEND;TZID=Asia/Taipei;VALUE=DATE-TIME:20240119T180000
DTSTAMP;VALUE=DATE-TIME:20260419T230932Z
UID:f8c0e3f4cae44a32a9ace18b7659cefa@210.61.119.70:8080
CATEGORIES:學術交流
CREATED;VALUE=DATE-TIME:20240227T091304Z
LAST-MODIFIED;VALUE=DATE-TIME:20240306T063943Z
URL:http://www.cckf.org/zh/activities/2024022703
END:VEVENT
BEGIN:VTIMEZONE
TZID:Asia/Taipei
X-LIC-LOCATION:Asia/Taipei
BEGIN:STANDARD
DTSTART;VALUE=DATE-TIME:19790929T230000
TZNAME:CST
TZOFFSETFROM:+0900
TZOFFSETTO:+0800
END:STANDARD
END:VTIMEZONE
END:VCALENDAR
