BEGIN:VCALENDAR
VERSION:2.0
PRODID:-//Plone.org//NONSGML plone.app.event//EN
X-WR-TIMEZONE:Asia/Taipei
BEGIN:VEVENT
SUMMARY:新加坡前外交部長楊榮文伉儷拜訪錢董事長復
DTSTART;VALUE=DATE:20230914
DTEND;VALUE=DATE:20230915
DTSTAMP;VALUE=DATE-TIME:20260419T230556Z
UID:321b6b474c1c498e9c461d12fd5539da@210.61.119.70:8080
CATEGORIES:學術交流
CREATED;VALUE=DATE-TIME:20240226T024520Z
LAST-MODIFIED;VALUE=DATE-TIME:20240226T024523Z
URL:http://www.cckf.org/zh/activities/2024022605
END:VEVENT
END:VCALENDAR
