BEGIN:VCALENDAR
VERSION:2.0
PRODID:-//Plone.org//NONSGML plone.app.event//EN
X-WR-TIMEZONE:Asia/Taipei
BEGIN:VEVENT
SUMMARY:英國倫敦大學亞非學院歐陽文津教授來訪
DTSTART;VALUE=DATE:20230823
DTEND;VALUE=DATE:20230824
DTSTAMP;VALUE=DATE-TIME:20260419T225745Z
UID:0dfe7e8757c94070ae8593a71881354c@210.61.119.70:8080
CATEGORIES:學術交流
CREATED;VALUE=DATE-TIME:20240226T023936Z
LAST-MODIFIED;VALUE=DATE-TIME:20240226T024003Z
URL:http://www.cckf.org/zh/activities/2024022603
END:VEVENT
END:VCALENDAR
