BEGIN:VCALENDAR
VERSION:2.0
PRODID:-//Plone.org//NONSGML plone.app.event//EN
X-WR-TIMEZONE:Asia/Taipei
BEGIN:VEVENT
SUMMARY:第二屆兩岸社會學研習營：「轉型社會中的移民與
 社區」
DTSTART;VALUE=DATE:20170825
DTEND;VALUE=DATE:20170829
DTSTAMP;VALUE=DATE-TIME:20260420T022256Z
UID:24991e28ef2b4a518472902721bafc4a@210.65.89.245:8080
CATEGORIES:研習營
CREATED;VALUE=DATE-TIME:20170615T064137Z
LAST-MODIFIED;VALUE=DATE-TIME:20190812T013434Z
LOCATION:福建農林大學\, 中國
URL:http://www.cckf.org/zh/activities/2017061501
END:VEVENT
END:VCALENDAR
