BEGIN:VCALENDAR
VERSION:2.0
PRODID:-//Plone.org//NONSGML plone.app.event//EN
X-WR-TIMEZONE:Asia/Taipei
BEGIN:VEVENT
SUMMARY:朱雲漢執行長赴山東大學出席「全球漢籍合璧與漢
 學合作研究研討會」
DTSTART;VALUE=DATE:20161125
DTEND;VALUE=DATE:20161126
DTSTAMP;VALUE=DATE-TIME:20260420T004630Z
UID:62b9c167effc492ab71004ac782d8920@210.65.89.245:8080
CATEGORIES:學術交流
CREATED;VALUE=DATE-TIME:20161219T081243Z
LAST-MODIFIED;VALUE=DATE-TIME:20161219T081329Z
LOCATION:山東大學\, 中國
URL:http://www.cckf.org/zh/activities/2016121905
END:VEVENT
END:VCALENDAR
