BEGIN:VCALENDAR
VERSION:2.0
PRODID:-//Plone.org//NONSGML plone.app.event//EN
X-WR-TIMEZONE:Asia/Taipei
BEGIN:VEVENT
SUMMARY:美國里奇蒙大學代表團來訪
DTSTART;VALUE=DATE:20070518
DTEND;VALUE=DATE:20070519
DTSTAMP;VALUE=DATE-TIME:20260425T205124Z
UID:01d70b1c4bd9427b8337aeaec84ecc39@210.65.89.245:8080
CATEGORIES:學術交流
CREATED;VALUE=DATE-TIME:20160922T024155Z
LAST-MODIFIED;VALUE=DATE-TIME:20160922T024518Z
LOCATION:基金會\, 臺灣
URL:http://www.cckf.org/zh/activities/2016092209
END:VEVENT
END:VCALENDAR
