BEGIN:VCALENDAR
VERSION:2.0
PRODID:-//Plone.org//NONSGML plone.app.event//EN
X-WR-TIMEZONE:Asia/Taipei
BEGIN:VEVENT
SUMMARY:越南社會科學院代表團來訪
DTSTART;VALUE=DATE:20030312
DTEND;VALUE=DATE:20030313
DTSTAMP;VALUE=DATE-TIME:20260421T170430Z
UID:6b72d57ea8d840eeb96f3edfcf801763@210.65.89.245:8080
CATEGORIES:學術交流
CREATED;VALUE=DATE-TIME:20160921T023802Z
LAST-MODIFIED;VALUE=DATE-TIME:20160921T024545Z
LOCATION:基金會\, 臺灣
URL:http://www.cckf.org/zh/activities/2016092127
END:VEVENT
END:VCALENDAR
