BEGIN:VCALENDAR
VERSION:2.0
PRODID:-//Plone.org//NONSGML plone.app.event//EN
X-WR-TIMEZONE:Asia/Taipei
BEGIN:VEVENT
SUMMARY:中國藝術研究院王文章院長來訪
DTSTART;VALUE=DATE:20011228
DTEND;VALUE=DATE:20011229
DTSTAMP;VALUE=DATE-TIME:20260420T084642Z
UID:72a7f3fcfcc748968d00b36826a2ae19@210.65.89.245:8080
CATEGORIES:學術交流
CREATED;VALUE=DATE-TIME:20160921T022754Z
LAST-MODIFIED;VALUE=DATE-TIME:20160921T023249Z
LOCATION:基金會\, 臺灣
URL:http://www.cckf.org/zh/activities/2016092125
END:VEVENT
END:VCALENDAR
