BEGIN:VCALENDAR
VERSION:2.0
PRODID:-//Plone.org//NONSGML plone.app.event//EN
X-WR-TIMEZONE:Asia/Taipei
BEGIN:VEVENT
SUMMARY:2015第三屆兩岸人類學研習營：「人類學視野中的
 社會史」
DTSTART;VALUE=DATE:20150719
DTEND;VALUE=DATE:20150729
DTSTAMP;VALUE=DATE-TIME:20260420T004555Z
UID:f18d025cea1b4d6781c1973b85c5cd18@210.65.89.245:8080
CATEGORIES:研習營
CREATED;VALUE=DATE-TIME:20150623T075318Z
LAST-MODIFIED;VALUE=DATE-TIME:20170214T012115Z
LOCATION:湖南吉首大學\, 中國
URL:http://www.cckf.org/zh/activities/2015072101
END:VEVENT
END:VCALENDAR
