BEGIN:VCALENDAR
VERSION:2.0
PRODID:-//Plone.org//NONSGML plone.app.event//EN
X-WR-TIMEZONE:Asia/Taipei
BEGIN:VEVENT
SUMMARY:第二屆地方檔案研習營：「中國環境史與疾病史」
DTSTART;VALUE=DATE:20150713
DTEND;VALUE=DATE:20150720
DTSTAMP;VALUE=DATE-TIME:20260420T191637Z
UID:a57a90b3d5d243bc958b263d2c89a8bb@210.65.89.245:8080
CATEGORIES:研習營
CREATED;VALUE=DATE-TIME:20150615T100722Z
LAST-MODIFIED;VALUE=DATE-TIME:20170214T012157Z
LOCATION:上海交通大學\, 中國
URL:http://www.cckf.org/zh/activities/2015071301
END:VEVENT
END:VCALENDAR
