BEGIN:VCALENDAR
VERSION:2.0
PRODID:-//Plone.org//NONSGML plone.app.event//EN
X-WR-TIMEZONE:Asia/Taipei
BEGIN:VEVENT
SUMMARY:朱雲漢執行長參加香港大學舉辦之「陳坤耀傑出學
 人講座系列」活動
DTSTART;VALUE=DATE:20141030
DTEND;VALUE=DATE:20141031
DTSTAMP;VALUE=DATE-TIME:20260425T191235Z
UID:461d60692f994570994eb3f672589361@210.65.89.245:8080
CATEGORIES:學術交流
CREATED;VALUE=DATE-TIME:20140712T092530Z
LAST-MODIFIED;VALUE=DATE-TIME:20160905T060008Z
LOCATION:香港大學
URL:http://www.cckf.org/zh/activities/2014103001
END:VEVENT
END:VCALENDAR
