BEGIN:VCALENDAR
VERSION:2.0
PRODID:-//Plone.org//NONSGML plone.app.event//EN
X-WR-TIMEZONE:Asia/Taipei
BEGIN:VEVENT
SUMMARY:朱雲漢執行長參訪雷根總統圖書館
DTSTART;VALUE=DATE:20141020
DTEND;VALUE=DATE:20141021
DTSTAMP;VALUE=DATE-TIME:20260421T171644Z
UID:cb01264fb4ff42b1929ff7603280cc7e@210.65.89.245:8080
CATEGORIES:學術交流
CREATED;VALUE=DATE-TIME:20140712T092314Z
LAST-MODIFIED;VALUE=DATE-TIME:20160905T060040Z
LOCATION:美國雷根總統圖書館
URL:http://www.cckf.org/zh/activities/2014102001
END:VEVENT
END:VCALENDAR
