BEGIN:VCALENDAR
VERSION:2.0
PRODID:-//Plone.org//NONSGML plone.app.event//EN
X-WR-TIMEZONE:Asia/Taipei
BEGIN:VEVENT
SUMMARY:第四屆兩岸歷史文化研習營：「江南文化」
DTSTART;VALUE=DATE:20140730
DTEND;VALUE=DATE:20140811
DTSTAMP;VALUE=DATE-TIME:20260425T205210Z
UID:13493e2253984df5b1f09d5505559b79@210.65.89.245:8080
CATEGORIES:研習營
CREATED;VALUE=DATE-TIME:20140719T085454Z
LAST-MODIFIED;VALUE=DATE-TIME:20170214T012742Z
LOCATION:蘇州大學\, 中國
URL:http://www.cckf.org/zh/activities/2014081001
END:VEVENT
END:VCALENDAR
