BEGIN:VCALENDAR
VERSION:2.0
PRODID:-//Plone.org//NONSGML plone.app.event//EN
X-WR-TIMEZONE:Asia/Taipei
BEGIN:VEVENT
SUMMARY:陳純一副執行長拜會史丹佛大學胡佛研究院檔案館
 魏肯館長(Eric Wakin)
DTSTART;VALUE=DATE:20140411
DTEND;VALUE=DATE:20140412
DTSTAMP;VALUE=DATE-TIME:20260426T004043Z
UID:b4e11fa7d6d84d8b9474ae57499b0a29@210.65.89.245:8080
CATEGORIES:學術交流
CREATED;VALUE=DATE-TIME:20140712T091706Z
LAST-MODIFIED;VALUE=DATE-TIME:20160922T061927Z
LOCATION:美國史丹佛大學
URL:http://www.cckf.org/zh/activities/2014041101
END:VEVENT
END:VCALENDAR
