BEGIN:VCALENDAR
VERSION:2.0
PRODID:-//Plone.org//NONSGML plone.app.event//EN
X-WR-TIMEZONE:Asia/Taipei
BEGIN:VEVENT
SUMMARY:第二屆青年學者「東亞儒學」研習營
DTSTART;VALUE=DATE:20120213
DTEND;VALUE=DATE:20120219
DTSTAMP;VALUE=DATE-TIME:20260420T004642Z
UID:602b46b6a57e49ea9c29c317fa2c4f9c@210.65.89.245:8080
CATEGORIES:研習營
CREATED;VALUE=DATE-TIME:20120213T035258Z
LAST-MODIFIED;VALUE=DATE-TIME:20170214T030035Z
LOCATION:臺灣大學\, 臺灣
URL:http://www.cckf.org/zh/activities/2012021301
END:VEVENT
END:VCALENDAR
