BEGIN:VCALENDAR
VERSION:2.0
PRODID:-//Plone.org//NONSGML plone.app.event//EN
X-WR-TIMEZONE:Asia/Taipei
BEGIN:VEVENT
SUMMARY:Visit of Professor Wen-chin Ouyang of SOAS\, University of London
DTSTART;VALUE=DATE:20230823
DTEND;VALUE=DATE:20230824
DTSTAMP;VALUE=DATE-TIME:20260420T004724Z
UID:4ba3089a0d5640eb922546764dc4e93e@210.61.119.70:8080
CATEGORIES:Visits
CREATED;VALUE=DATE-TIME:20240306T070514Z
LAST-MODIFIED;VALUE=DATE-TIME:20240306T070613Z
URL:http://www.cckf.org/en/activities/2024030609
END:VEVENT
END:VCALENDAR
