BEGIN:VCALENDAR
VERSION:2.0
PRODID:-//Plone.org//NONSGML plone.app.event//EN
X-WR-TIMEZONE:Asia/Taipei
BEGIN:VEVENT
SUMMARY:Colleagues from the Foundation visit the Touliao Mausoleum
DTSTART;VALUE=DATE:20240111
DTEND;VALUE=DATE:20240112
DTSTAMP;VALUE=DATE-TIME:20260420T004849Z
UID:6f87e3ef36bc447894c6e9b40cddfefe@210.61.119.70:8080
CATEGORIES:Other
CREATED;VALUE=DATE-TIME:20240306T015327Z
LAST-MODIFIED;VALUE=DATE-TIME:20240306T064040Z
URL:http://www.cckf.org/en/activities/2024030602
END:VEVENT
END:VCALENDAR
