BEGIN:VCALENDAR
VERSION:2.0
PRODID:-//Plone.org//NONSGML plone.app.event//EN
X-WR-TIMEZONE:Asia/Taipei
BEGIN:VEVENT
SUMMARY:Lecture Series to Celebrate the Foundation’s Thirtieth Anniversa
 ry\, with Professor Marianne Bastid‐Bruguière at University of Glasgow\
 , UK
DTSTART;VALUE=DATE:20180829
DTEND;VALUE=DATE:20180830
DTSTAMP;VALUE=DATE-TIME:20260424T205240Z
UID:e6ef9ddd0d3544ca836acc8ca213ba69@210.61.119.70:8080
CATEGORIES:Other
CREATED;VALUE=DATE-TIME:20180801T073840Z
LAST-MODIFIED;VALUE=DATE-TIME:20231113T022203Z
LOCATION:University of Glasgow\, UK
URL:http://www.cckf.org/en/activities/2018080102
END:VEVENT
END:VCALENDAR
