BEGIN:VCALENDAR
VERSION:2.0
PRODID:-//Plone.org//NONSGML plone.app.event//EN
X-WR-TIMEZONE:Asia/Taipei
BEGIN:VEVENT
SUMMARY:Lecture Series to Celebrate the Foundation’s Thirtieth Anniversa
 ry\, with Professor Barend J. ter Haar at Charles University\, Czech Repub
 lic
DTSTART;VALUE=DATE:20180427
DTEND;VALUE=DATE:20180428
DTSTAMP;VALUE=DATE-TIME:20260425T191259Z
UID:8b57be88842249c0bd3abaf2712372dd@210.61.119.70:8080
CATEGORIES:Other
CREATED;VALUE=DATE-TIME:20180423T081504Z
LAST-MODIFIED;VALUE=DATE-TIME:20231113T022347Z
LOCATION:Charles University\, Prague
URL:http://www.cckf.org/en/activities/2018042303
END:VEVENT
END:VCALENDAR
