BEGIN:VCALENDAR
VERSION:2.0
PRODID:-//Plone.org//NONSGML plone.app.event//EN
X-WR-TIMEZONE:Asia/Taipei
BEGIN:VEVENT
SUMMARY:Second Cross-Strait Sociology Camp: Migrants and Community in Tran
 sitional Societies
DTSTART;VALUE=DATE:20170825
DTEND;VALUE=DATE:20170829
DTSTAMP;VALUE=DATE-TIME:20260419T225539Z
UID:e4ba5d59c5914f39b04233a66567ada8@210.65.89.245:8080
CATEGORIES:Camps
CREATED;VALUE=DATE-TIME:20170615T064649Z
LAST-MODIFIED;VALUE=DATE-TIME:20190812T014724Z
LOCATION:Fujian Agriculture and Forestry University\, China
URL:http://www.cckf.org/en/activities/2017061502
END:VEVENT
END:VCALENDAR
