BEGIN:VCALENDAR
VERSION:2.0
PRODID:-//Plone.org//NONSGML plone.app.event//EN
X-WR-TIMEZONE:Asia/Taipei
BEGIN:VEVENT
SUMMARY:President Yun-han Chu Participated in a Conference on Cooperative 
 Research in Chinese Studies and Chinese Sources\, held at Shandong Univers
 ity
DTSTART;VALUE=DATE:20161125
DTEND;VALUE=DATE:20161126
DTSTAMP;VALUE=DATE-TIME:20260420T004502Z
UID:9910d55c87204d68af368f55982e14fa@210.65.89.245:8080
CATEGORIES:Visits
CREATED;VALUE=DATE-TIME:20161220T065740Z
LAST-MODIFIED;VALUE=DATE-TIME:20170217T072215Z
LOCATION:Shandong University\, China
URL:http://www.cckf.org/en/activities/2016122002
END:VEVENT
END:VCALENDAR
