BEGIN:VCALENDAR
VERSION:2.0
PRODID:-//Plone.org//NONSGML plone.app.event//EN
X-WR-TIMEZONE:Asia/Taipei
BEGIN:VEVENT
SUMMARY:President Wenzhang Wang of the China Art Academe visited the Found
 ation
DTSTART;VALUE=DATE:20011228
DTEND;VALUE=DATE:20011229
DTSTAMP;VALUE=DATE-TIME:20260420T102605Z
UID:938ca6665608404682a45134c870c534@210.65.89.245:8080
CATEGORIES:Visits
CREATED;VALUE=DATE-TIME:20160921T023144Z
LAST-MODIFIED;VALUE=DATE-TIME:20160921T023245Z
LOCATION:CCK Foundation\, Taiwan
URL:http://www.cckf.org/en/activities/2016092126
END:VEVENT
END:VCALENDAR
