BEGIN:VCALENDAR
VERSION:2.0
PRODID:-//Plone.org//NONSGML plone.app.event//EN
X-WR-TIMEZONE:Asia/Taipei
BEGIN:VEVENT
SUMMARY:Vice-President Chun-I Chen Visited the Faculty of Oriental Studies
 \, University of Warsaw
DTSTART;VALUE=DATE:20160621
DTEND;VALUE=DATE:20160622
DTSTAMP;VALUE=DATE-TIME:20260421T125518Z
UID:28e03a5572fe4fac911fc7b6babc76bb@210.65.89.245:8080
CATEGORIES:Visits
CREATED;VALUE=DATE-TIME:20160630T013503Z
LAST-MODIFIED;VALUE=DATE-TIME:20160901T124208Z
LOCATION:University of Warsaw\, Poland
URL:http://www.cckf.org/en/activities/2016063002
END:VEVENT
END:VCALENDAR
