BEGIN:VCALENDAR
VERSION:2.0
PRODID:-//Plone.org//NONSGML plone.app.event//EN
X-WR-TIMEZONE:Asia/Taipei
BEGIN:VEVENT
SUMMARY:First Art History Camp : Buddhist Art and Culture at Dunhuang
DTSTART;VALUE=DATE:20151010
DTEND;VALUE=DATE:20151019
DTSTAMP;VALUE=DATE-TIME:20260424T185157Z
UID:88d44ae95823497facfbf9408c55da16@210.65.89.245:8080
CATEGORIES:Camps
CREATED;VALUE=DATE-TIME:20151013T032345Z
LAST-MODIFIED;VALUE=DATE-TIME:20160901T124207Z
LOCATION:Dunhuang Research Academy\, China
URL:http://www.cckf.org/en/activities/2015101001
END:VEVENT
END:VCALENDAR
