BEGIN:VCALENDAR
VERSION:2.0
PRODID:-//Plone.org//NONSGML plone.app.event//EN
X-WR-TIMEZONE:Asia/Taipei
BEGIN:VEVENT
SUMMARY:2015 Third Camp in “Cross-Strait Anthropology”
DTSTART;VALUE=DATE:20150719
DTEND;VALUE=DATE:20150729
DTSTAMP;VALUE=DATE-TIME:20260419T225538Z
UID:fa711aa12e9c4a96942f393d6cad444b@210.65.89.245:8080
CATEGORIES:Camps
CREATED;VALUE=DATE-TIME:20150623T075318Z
LAST-MODIFIED;VALUE=DATE-TIME:20160901T124209Z
LOCATION:Jishou University\, China
URL:http://www.cckf.org/en/activities/2015072101
END:VEVENT
END:VCALENDAR
