BEGIN:VCALENDAR
VERSION:2.0
PRODID:-//Plone.org//NONSGML plone.app.event//EN
X-WR-TIMEZONE:Asia/Taipei
BEGIN:VEVENT
SUMMARY:Second Camp on Local Archives -- Chinese Environmental History and
  Disease History
DTSTART;VALUE=DATE:20150713
DTEND;VALUE=DATE:20150720
DTSTAMP;VALUE=DATE-TIME:20260420T205708Z
UID:cd96b4bf45254cf89a36e1ca36cb199b@210.65.89.245:8080
CATEGORIES:Camps
CREATED;VALUE=DATE-TIME:20150615T100722Z
LAST-MODIFIED;VALUE=DATE-TIME:20160901T124208Z
LOCATION:Shanghai Jiao Tong University\, China
URL:http://www.cckf.org/en/activities/2015071301
END:VEVENT
END:VCALENDAR
