BEGIN:VCALENDAR
VERSION:2.0
PRODID:-//Plone.org//NONSGML plone.app.event//EN
X-WR-TIMEZONE:Asia/Taipei
BEGIN:VEVENT
SUMMARY:Vice-President Chun-i Chen Visited Professor Eric Wakin at the Hoo
 ver Institution
DTSTART;VALUE=DATE:20140411
DTEND;VALUE=DATE:20140412
DTSTAMP;VALUE=DATE-TIME:20260424T193032Z
UID:7699088f5a004ed5abf84bb684154ddd@210.65.89.245:8080
CATEGORIES:Visits
CREATED;VALUE=DATE-TIME:20140712T091706Z
LAST-MODIFIED;VALUE=DATE-TIME:20160901T124207Z
LOCATION:Stanford University\, USA
URL:http://www.cckf.org/en/activities/2014041101
END:VEVENT
END:VCALENDAR
