BEGIN:VCALENDAR
VERSION:2.0
PRODID:-//Plone.org//NONSGML plone.app.event//EN
X-WR-TIMEZONE:Asia/Taipei
BEGIN:VEVENT
SUMMARY:Professor Archie Chi Chung Lee Led a Delegation of Faculty from Th
 e Chinese University of Hong Kong to Visit the Foundation
DTSTART;VALUE=DATE:20140226
DTEND;VALUE=DATE:20140227
DTSTAMP;VALUE=DATE-TIME:20260421T184229Z
UID:ab4e8dfe29ce48269ea0873921fe62d5@210.65.89.245:8080
CATEGORIES:Visits
CREATED;VALUE=DATE-TIME:20140712T084738Z
LAST-MODIFIED;VALUE=DATE-TIME:20160901T124207Z
LOCATION:CCK Foundation\, Taiwan
URL:http://www.cckf.org/en/activities/2014022601
END:VEVENT
END:VCALENDAR
