BEGIN:VCALENDAR
VERSION:2.0
PRODID:-//Plone.org//NONSGML plone.app.event//EN
X-WR-TIMEZONE:Asia/Taipei
BEGIN:VEVENT
SUMMARY:Reception to Celebrate the Foundation's Twentieth Anniversary\, Am
 erican Region
DTSTART;VALUE=DATE:20090320
DTEND;VALUE=DATE:20090321
DTSTAMP;VALUE=DATE-TIME:20260421T183902Z
UID:99957fa5c640434693f61fd1862df760@210.65.89.245:8080
CATEGORIES:Other
CREATED;VALUE=DATE-TIME:20160810T064028Z
LAST-MODIFIED;VALUE=DATE-TIME:20160901T124213Z
LOCATION:Library of Congress\, USA
URL:http://www.cckf.org/en/activities/20090322
END:VEVENT
END:VCALENDAR
