BEGIN:VCALENDAR
VERSION:2.0
PRODID:-//Plone.org//NONSGML plone.app.event//EN
X-WR-TIMEZONE:Asia/Taipei
BEGIN:VEVENT
SUMMARY:International Conference on Translation of Chinese Literature
DTSTART;VALUE=DATE:19901116
DTEND;VALUE=DATE:19901117
DTSTAMP;VALUE=DATE-TIME:20260421T184155Z
UID:9893547f673c4ea8a821d3b584535f7a@210.65.89.245:8080
CATEGORIES:Conferences
CREATED;VALUE=DATE-TIME:19900711T083513Z
LAST-MODIFIED;VALUE=DATE-TIME:20160901T124158Z
LOCATION:National Central Library\, Taiwan
URL:http://www.cckf.org/en/activities/1990111601
END:VEVENT
END:VCALENDAR
